BEGIN:VCALENDAR
VERSION:2.0
PRODID:-//eventon.com NONSGML v1.0//EN
CALSCALE:GREGORIAN
METHOD:PUBLISH
BEGIN:VEVENT
UID:69e9adbff3718
DTSTAMP:20260423T052727Z
DTSTART:20241009T191200Z
DTEND:20241013T191200Z
LOCATION:
SUMMARY:TAOMS 2024
DESCRIPTION:\nhttps://erolcansiz.com/events/taoms-2024/
URL:https://erolcansiz.com/events/taoms-2024/
END:VEVENT
END:VCALENDAR